Workbook

Sheet RESUMO DOS SISTEMAS
A1: ITEM | B1: BOMBAS DOS SISTEMAS | H1: POÇO (m) | I1: REV. POÇO (m) | J1: POSIÇÃO BOMBA (m) | K1: Distância da Prefeitura aprox. (Km)
B2: SISTEMA | C2: φ (") | D2: ESTAGIOS | E2: POT (Hp) | F2: FASES | G2: BOMBA EXISTENTE VANBRO MODELO
A3: 1 | B3: MOINHO RUBIN 01 | C3: 6 | D3: 26 | E3: 13 | F3: 3 | G3: VBOP.613.26.130.Y | H3: 100 | I3: 8 | J3: 60 | K3: 2
B4: MOINHO RUBIN 02 | C4: 6 | D4: 24 | E4: 12 | F4: 3 | G4: VBOP.613.24.120.Y | H4: 100 | I4: 8 | J4: 60
A5: 2 | B5: B. LIMEIRA | C5: 6 | D5: 16 | E5: 8 | F5: 3 | G5: VBOP.613.16.080.Y | H5: 105 | I5: 12 | J5: 100 | K5: 2
A6: 3 | B6: B. SÃO JOSÉ | C6: 6 | D6: 14 | E6: 7 | F6: 3 | G6: VBOP.613.14.070.Y | H6: 60 | I6: 12 | J6: 24 | K6: 3
A7: 4 | B7: L. BUSANELLO | C7: 6 | D7: 20 | E7: 10 | F7: 2 | G7: VBOP.613.20.100.Y | H7: 130 | I7: 130 | J7: 84 | K7: 7
A8: 5 | B8: R. DOS SALLES | C8: 4 | D8: 53 | E8: 5.5 | F8: 1 | G8: VBOP.421.53.055.Y | H8: 210 | I8: 4 | J8: 88 | K8: 9
B9: L. SOMAVILLA | C9: 4 | D9: 53 | E9: 5.5 | F9: 1 | G9: VBOP.421.53.055.Y | H9: 90 | I9: 37 | J9: 60 | K9: 10
B10: CAÇADOR | C10: 4 | D10: 53 | E10: 5.5 | F10: 1 | G10: VBOP.421.53.055.Y | H10: 130 | I10: 110 | J10: 90 | K10: 12
B11: COX.TAQUARIANO | C11: 4 | D11: 53 | E11: 5.5 | F11: 1 | G11: VBOP.421.53.055.Y | H11: 120 | I11: 12 | J11: 102 | K11: 12
A12: 6 | B12: INVERNADINHA | C12: 4 | D12: 39 | E12: 5.5 | F12: 1 | G12: VBOP.431.39.055.Y | H12: 150 | I12: 150 | J12: 102 | K12: 8
B13: FELISBERTA | C13: 4 | D13: 39 | E13: 5.5 | F13: 1 | G13: VBOP.431.39.055.Y | H13: 130 | I13: 6 | J13: 102 | K13: 22
B14: MEDIANEIRA | C14: 4 | D14: 39 | E14: 5.5 | F14: 1 | G14: VBOP.431.39.055.Y | H14: 204 | I14: 18 | J14: 102 | K14: 20
A15: 7 | B15: ENCRUZILHADA | C15: 4 | D15: 50 | E15: 5 | F15: 1 | G15: VBOP.421.50.050.Y | H15: 60 | I15: 60 | J15: 54 | K15: 6
B16: R. VARZEA | C16: 4 | D16: 50 | E16: 5 | F16: 1 | G16: VBOP.421.50.050.Y | H16: 130 | I16: 110 | J16: 114 | K16: 10
A17: 8 | B17: L. FERRARI | C17: 4 | D17: 35 | E17: 5 | F17: 1 | G17: VBOP.431.35.050.Y | H17: 120 | I17: 60 | J17: 40 | K17: 8
B18: DOIS IRMÃOS | C18: 4 | D18: 35 | E18: 5 | F18: 1 | G18: VBOP.431.35.050.Y | H18: 180 | I18: 6 | J18: 72 | K18: 13
B19: GRINGUINHA | C19: 4 | D19: 35 | E19: 5 | F19: 1 | G19: VBOP.431.35.050.Y | H19: 120 | I19: 120 | J19: 72 | K19: 14
A20: 9 | B20: PASSO JACUÍ | C20: 4 | D20: 43 | E20: 4.5 | F20: 1 | G20: VBOP.421.43.045.Y | H20: 100 | I20: 12 | J20: 64 | K20: 20
A21: 10 | B21: TAIPA | C21: 4 | D21: 30 | E21: 4.5 | F21: 1 | G21: VBOP.431.30.045.Y | H21: 130 | I21: 130 | J21: 72 | K21: 7
B22: R. DO APPEL | C22: 4 | D22: 30 | E22: 4.5 | F22: 1 | G22: VBOP.431.30.045.Y | H22: 130 | I22: 130 | J22: 72 | K22: 15
A23: 11 | B23: SOBRADO 01-AGROVILA E 02-INTERIOR | C23: 4 | D23: 28 | E23: 3 | F23: 1 | G23: VBOP.421.28.030.Y | H23: 130 | I23: 130 | J23: 72 | K23: 16
C24: 4 | D24: 28 | E24: 3 | F24: 1 | G24: VBOP.421.28.030.Y | H24: 130 | I24: 130 | J24: 72 | K24: 15
A25: 12 | B25: INTERMEDIÁRIOS: R. DOS SALLES - CAÇADOR E COX. TAQUARIANOS E SISTEMAS CERRO AZUL L. POLONIATO | C25: CTF* | D25: 27 | E25: 2 | F25: 1 | G25: VBOC.401.27.020.Y | H25: CAIXA INTERMEDIÁRIA | K25: 9
C26: CTF* | D26: 27 | E26: 2 | F26: 1 | G26: VBOC.401.27.020.Y | H26: CAIXA INTERMEDIÁRIA | K26: 12
C27: CTF* | D27: 27 | E27: 2 | F27: 1 | G27: VBOC.401.27.020.Y | H27: CAIXA INTERMEDIÁRIA | K27: 12
C28: CTF* | D28: 27 | E28: 2 | F28: 1 | G28: VBOC.401.27.020.Y | H28: FONTE DRENADA | K28: 13
C29: CTF* | D29: 27 | E29: 2 | F29: 1 | G29: VBOC.401.27.020.Y | H29: FONTE DRENADA | K29: 11
C30: CTF* - Bomba Centrífuga

Sheet ITEM 01
A1: FORNECEDOR: | D1: PREENCHER NA PLANILHA "ITEM 01"
A2: ENDEREÇO: | D2: PREENCHER NA PLANILHA "ITEM 01"
A3: SISTEMA MOINHO RUBIN - 02 POÇOS
A4: ITEM | B4: SUB | C4: DESCRIÇÃO: Verificar descrição complementar no T. R. | H4: UNID. | I4: MARCA / MODELO | J4: PREÇO UNITÁRIO | K4: (%)
A5: 1 | B5: 1.1 | C5: Bomba nova sumersa, 6", 26 estagios, 13 Hp, trifasica. | H5: UNID. | J5: 0 | K5: =J5/J27 -> #DIV/0!
B6: 1.2 | C6: Manutenção corretiva de motor acoplavel p /bomba submersa 6", acima, base de troca. | H6: UNID. | K6: =J6/J27 -> #DIV/0!
B7: 1.3 | C7: Bomba nova sumersa, 6", 24 estagios, 12 Hp, trifasica. | H7: UNID. | K7: =J7/J27 -> #DIV/0!
B8: 1.4 | C8: Manutenção corretiva de motor acoplavel para bomba submersa 6", acima, base de troca. | H8: UNID. | K8: =J8/J27 -> #DIV/0!
B9: 1.5 | C9: Quadro de comando novo, completo, 13 Hp, trifásico, partida direta, montado em caixa metálica fosfotizada com pintura eletrostática em epoxi, para uso externo, com no mínimo, os componentes abaixo especificados. | H9: UNID. | K9: =J9/J27 -> #DIV/0!
B10: 1.6 | C10: Amperímetro compatível para reposição | H10: UNID. | K10: =J10/J27 -> #DIV/0!
B11: 1.7 | C11: Bobina magnética compatível para reposição | H11: UNID. | K11: =J11/J27 -> #DIV/0!
B12: 1.8 | C12: Chave 3 posições compatível para reposição | H12: UNID. | K12: =J12/J27 -> #DIV/0!
B13: 1.9 | C13: Contatora compatível para reposição | H13: UNID. | K13: =J13/J27 -> #DIV/0!
B14: 1.10 | C14: Disjuntor compatível para reposição | H14: UNID. | K14: =J14/J27 -> #DIV/0!
B15: 1.11 | C15: Relé de sobrecarga compatível para reposição | H15: UNID. | K15: =J15/J27 -> #DIV/0!
B16: 1.12 | C16: Relé de falta de fase compatível para reposição | H16: UNID. | K16: =J16/J27 -> #DIV/0!
B17: 1.13 | C17: Quadro de comando novo, completo, 12 Hp, trifásico, partida direta, montado em caixa metálica fosfotizada com pintura eletrostática em epoxi, com no mínimo, os componentes abaixo especificados. | H17: UNID. | K17: =J17/J27 -> #DIV/0!
B18: 1.14 | C18: Amperímetro compatível para reposição | H18: UNID. | K18: =J18/J27 -> #DIV/0!
B19: 1.15 | C19: Bobina magnética compatível para reposição | H19: UNID. | K19: =J19/J27 -> #DIV/0!
B20: 1.16 | C20: Chave 3 posições compatível para reposição | H20: UNID. | K20: =J20/J27 -> #DIV/0!
B21: 1.17 | C21: Contatora compatível para reposição | H21: UNID. | K21: =J21/J27 -> #DIV/0!
B22: 1.18 | C22: Disjuntor compatível para reposição | H22: UNID. | K22: =J22/J27 -> #DIV/0!
B23: 1.19 | C23: Relé de sobrecarga compatível para reposição | H23: UNID. | K23: =J23/J27 -> #DIV/0!
B24: 1.20 | C24: Relé de falta de fase compatível para reposição | H24: UNID. | K24: =J24/J27 -> #DIV/0!
B25: 1.21 | C25: Chamado técnico para manutenção do sistema com verificação das condições de componentes externos do sistema, sem intervenção no poço, com deslocamento. | H25: UNID. | K25: =J25/J27 -> #DIV/0!
B26: 1.22 | C26: Complementação do Chamado técnico acima, referente a intervenção no poço, através de sistema de guincho para retirada de bomba submersa, sem deslocamento. | H26: UNID. | K26: =J26/J27 -> #DIV/0!
B27: VALOR TOTAL DO ITEM 01 | J27: =SUM(J5:J26) -> 0 | K27: 1
B28: Local, Data e Assinatura: | E28: PREENCHER NA PLANILHA "ITEM 01"

Sheet ITEM 02
A1: FORNECEDOR: | D1: ='ITEM 01'!D1 -> PREENCHER NA PLANILHA "ITEM 01"
A2: ENDEREÇO: | D2: ='ITEM 01'!D2 -> PREENCHER NA PLANILHA "ITEM 01"
A3: SISTEMA BAIRRO LIMEIRA
A4: ITEM | B4: SUB | C4: DESCRIÇÃO: Verificar descrição complementar no T. R. | H4: UNID. | I4: MARCA / MODELO | J4: PREÇO UNITÁRIO | K4: (%)
A5: 2 | B5: 2.1 | C5: Bomba nova sumersa, 6", 16 estagios, 8 Hp, trifasica. | H5: UNID. | K5: =J5/J17 -> #DIV/0!
B6: 2.2 | C6: Manutenção corretiva de motor acoplavel para bomba submersa 6" acima, base de troca. | H6: UNID. | K6: =J6/J17 -> #DIV/0!
B7: 2.3 | C7: Quadro de comando novo, completo, 8 Hp, trifásico, partida direta, montado em caixa metálica fosfotizada com pintura eletrostática em epoxi, com no mínimo, os componentes abaixo especificados: | H7: UNID. | K7: =J7/J17 -> #DIV/0!
B8: 2.4 | C8: Amperímetro compatível para reposição | H8: UNID. | K8: =J8/J17 -> #DIV/0!
B9: 2.5 | C9: Bobina magnética compatível para reposição | H9: UNID. | K9: =J9/J17 -> #DIV/0!
B10: 2.6 | C10: Chave 3 posições compatível para reposição | H10: UNID. | K10: =J10/J17 -> #DIV/0!
B11: 2.7 | C11: Contatora compatível para reposição | H11: UNID. | K11: =J11/J17 -> #DIV/0!
B12: 2.8 | C12: Disjuntor compatível para reposição | H12: UNID. | K12: =J12/J17 -> #DIV/0!
B13: 2.9 | C13: Relé de sobrecarga compatível para reposição | H13: UNID. | K13: =J13/J17 -> #DIV/0!
B14: 2.10 | C14: Relé de falta de fase compatível para reposição | H14: UNID. | K14: =J14/J17 -> #DIV/0!
B15: 2.11 | C15: Chamado técnico para manutenção do sistema com verificação das condições de componentes externos do sistema, sem intervenção no poço, com deslocamento. | H15: UNID. | K15: =J15/J17 -> #DIV/0!
B16: 2.12 | C16: Complementação do Chamado técnico acima, referente a intervenção no poço, através de sistema de guincho para retirada de bomba submersa, sem deslocamento. | H16: UNID. | K16: =J16/J17 -> #DIV/0!
B17: VALOR TOTAL DO ITEM 02 | J17: =SUM(J5:J16) -> 0 | K17: 1
B18: Local, Data e Assinatura: | E18: ='ITEM 01'!E28 -> PREENCHER NA PLANILHA "ITEM 01"

Sheet ITEM 03
A1: FORNECEDOR: | D1: ='ITEM 01'!D1 -> PREENCHER NA PLANILHA "ITEM 01"
A2: ENDEREÇO: | D2: ='ITEM 01'!D2 -> PREENCHER NA PLANILHA "ITEM 01"
A3: SISTEMA BAIRRO SÃO JOSÉ DO PINHAL
A4: ITEM | B4: SUB | C4: DESCRIÇÃO: Verificar descrição complementar no T. R. | H4: UNID. | I4: MARCA / MODELO | J4: PREÇO UNITÁRIO | K4: (%)
A5: 3 | B5: 3.1 | C5: Bomba nova sumersa, 6", 14 estagios, 7 Hp, trifasica. | H5: UNID. | K5: =J5/J17 -> #DIV/0!
B6: 3.2 | C6: Manutenção corretiva de motor acoplavel para bomba submersa 6" acima, base de troca. | H6: UNID. | K6: =J6/J17 -> #DIV/0!
B7: 3.3 | C7: Quadro de comando novo, completo, 7 Hp, trifásico, partida direta, montado em caixa metálica fosfotizada com pintura eletrostática em epoxi, com no mínimo, os componentes abaixo especificados: | H7: UNID. | K7: =J7/J17 -> #DIV/0!
B8: 3.4 | C8: Amperímetro compatível para reposição | H8: UNID. | K8: =J8/J17 -> #DIV/0!
B9: 3.5 | C9: Bobina magnética compatível para reposição | H9: UNID. | K9: =J9/J17 -> #DIV/0!
B10: 3.6 | C10: Chave 3 posições compatível para reposição | H10: UNID. | K10: =J10/J17 -> #DIV/0!
B11: 3.7 | C11: Contatora compatível para reposição | H11: UNID. | K11: =J11/J17 -> #DIV/0!
B12: 3.8 | C12: Disjuntor compatível para reposição | H12: UNID. | K12: =J12/J17 -> #DIV/0!
B13: 3.9 | C13: Relé de sobrecarga compatível para reposição | H13: UNID. | K13: =J13/J17 -> #DIV/0!
B14: 3.10 | C14: Relé de falta de fase compatível para reposição | H14: UNID. | K14: =J14/J17 -> #DIV/0!
B15: 3.11 | C15: Chamado técnico para manutenção do sistema com verificação das condições de componentes externos do sistema, sem intervenção no poço, com deslocamento. | H15: UNID. | K15: =J15/J17 -> #DIV/0!
B16: 3.12 | C16: Complementação do Chamado técnico acima, referente a intervenção no poço, através de sistema de guincho para retirada de bomba submersa, sem deslocamento. | H16: UNID. | K16: =J16/J17 -> #DIV/0!
B17: VALOR TOTAL DO ITEM 03 | J17: =SUM(J5:J16) -> 0 | K17: 1
B18: Local, Data e Assinatura: | E18: ='ITEM 01'!E28 -> PREENCHER NA PLANILHA "ITEM 01"

Sheet ITEM 04
A1: FORNECEDOR: | D1: ='ITEM 01'!D1 -> PREENCHER NA PLANILHA "ITEM 01"
A2: ENDEREÇO: | D2: ='ITEM 01'!D2 -> PREENCHER NA PLANILHA "ITEM 01"
A3: SISTEMA LINHA BUSANELLO
A4: ITEM | B4: SUB | C4: DESCRIÇÃO: Verificar descrição complementar no T. R. | H4: UNID. | I4: MARCA / MODELO | J4: PREÇO UNITÁRIO | K4: (%)
A5: 4 | B5: 4.1 | C5: Bomba nova sumersa, 6", 20 estagios, 10 Hp, bifasica. | H5: UNID. | K5: =J5/J19 -> #DIV/0!
B6: 4.2 | C6: Manutenção corretiva de motor acoplavel para bomba submersa 6" acima, base de troca. | H6: UNID. | K6: =J6/J19 -> #DIV/0!
B7: 4.3 | C7: Quadro de comando novo, completo, 10 Hp, bifásico, partida direta, montado em caixa metálica fosfotizada com pintura eletrostática em epoxi, com no mínimo, os componentes abaixo especificados: | H7: UNID. | K7: =J7/J19 -> #DIV/0!
B8: 4.4 | C8: Amperímetro compatível para reposição | H8: UNID. | K8: =J8/J19 -> #DIV/0!
B9: 4.5 | C9: Bobina magnética compatível para reposição | H9: UNID. | K9: =J9/J19 -> #DIV/0!
B10: 4.6 | C10: Capacitor eletrolítico compatível para reposição | H10: UNID. | K10: =J10/J19 -> #DIV/0!
B11: 4.7 | C11: Capacitor permanente compatível para reposição | H11: UNID. | K11: =J11/J19 -> #DIV/0!
B12: 4.8 | C12: Chave 3 posições compatível para reposição | H12: UNID. | K12: =J12/J19 -> #DIV/0!
B13: 4.9 | C13: Contatora compatível para reposição | H13: UNID. | K13: =J13/J19 -> #DIV/0!
B14: 4.10 | C14: Disjuntor compatível para reposição | H14: UNID. | K14: =J14/J19 -> #DIV/0!
B15: 4.11 | C15: Relé de sobrecarga compatível para reposição | H15: UNID. | K15: =J15/J19 -> #DIV/0!
B16: 4.12 | C16: Relé de tempo compatível para reposição | H16: UNID. | K16: =J16/J19 -> #DIV/0!
B17: 4.13 | C17: Chamado técnico para manutenção do sistema com verificação das condições de componentes externos do sistema, sem intervenção no poço, com deslocamento. | H17: UNID. | K17: =J17/J19 -> #DIV/0!
B18: 4.14 | C18: Complementação do Chamado técnico acima, referente a intervenção no poço, através de sistema de guincho para retirada de bomba submersa, sem deslocamento. | H18: UNID. | K18: =J18/J19 -> #DIV/0!
B19: VALOR TOTAL DO ITEM 04 | J19: =SUM(J5:J18) -> 0 | K19: 1
B20: Local, Data e Assinatura: | E20: ='ITEM 01'!E28 -> PREENCHER NA PLANILHA "ITEM 01"

Sheet ITEM 05
A1: FORNECEDOR: | D1: ='ITEM 01'!D1 -> PREENCHER NA PLANILHA "ITEM 01"
A2: ENDEREÇO: | D2: ='ITEM 01'!D2 -> PREENCHER NA PLANILHA "ITEM 01"
A3: SISTEMAS R. DOS SALLES - L. SOMAVILLA - CAÇADOR - COXILHÃO DOS TAQUARIANOS
A4: ITEM | B4: SUB | C4: DESCRIÇÃO: Verificar descrição complementar no T. R. | H4: UNID. | I4: MARCA / MODELO | J4: PREÇO UNITÁRIO | K4: (%)
A5: 5 | B5: 5.1 | C5: Bomba nova submersa, 4", 53 estagios, 5,5 Hp, monofasica. | H5: UNID. | K5: =J5/J19 -> #DIV/0!
B6: 5.2 | C6: Manutenção corretiva de motor acoplavel para bomba submersa 4" acima, base de troca. | H6: UNID. | K6: =J6/J19 -> #DIV/0!
B7: 5.3 | C7: Quadro de comando novo, completo, 5,5 Hp, monofásico, partida direta, montado em caixa metálica fosfotizada com pintura eletrostática em epoxi, com no mínimo, os componentes abaixo especificados: | H7: UNID. | K7: =J7/J19 -> #DIV/0!
B8: 5.4 | C8: Amperímetro compatível para reposição | H8: UNID. | K8: =J8/J19 -> #DIV/0!
B9: 5.5 | C9: Bobina magnética compatível para reposição | H9: UNID. | K9: =J9/J19 -> #DIV/0!
B10: 5.6 | C10: Capacitor eletrolítico compatível para reposição | H10: UNID. | K10: =J10/J19 -> #DIV/0!
B11: 5.7 | C11: Capacitor permanente compatível para reposição | H11: UNID. | K11: =J11/J19 -> #DIV/0!
B12: 5.8 | C12: Chave 3 posições compatível para reposição | H12: UNID. | K12: =J12/J19 -> #DIV/0!
B13: 5.9 | C13: Contatora compatível para reposição | H13: UNID. | K13: =J13/J19 -> #DIV/0!
B14: 5.10 | C14: Disjuntor compatível para reposição | H14: UNID. | K14: =J14/J19 -> #DIV/0!
B15: 5.11 | C15: Relé de sobrecarga compatível para reposição | H15: UNID. | K15: =J15/J19 -> #DIV/0!
B16: 5.12 | C16: Relé de tempo compatível para reposição | H16: UNID. | K16: =J16/J19 -> #DIV/0!
B17: 5.13 | C17: Chamado técnico para manutenção do sistema com verificação das condições de componentes externos do sistema, sem intervenção no poço, com deslocamento. | H17: UNID. | K17: =J17/J19 -> #DIV/0!
B18: 5.14 | C18: Complementação do Chamado técnico acima, referente a intervenção no poço, através de sistema de guincho para retirada de bomba submersa, sem deslocamento. | H18: UNID. | K18: =J18/J19 -> #DIV/0!
B19: VALOR TOTAL DO ITEM 05 | J19: =SUM(J5:J18) -> 0 | K19: 1
B20: Local, Data e Assinatura: | E20: ='ITEM 01'!E28 -> PREENCHER NA PLANILHA "ITEM 01"

Sheet ITEM 06
A1: FORNECEDOR: | D1: ='ITEM 01'!D1 -> PREENCHER NA PLANILHA "ITEM 01"
A2: ENDEREÇO: | D2: ='ITEM 01'!D2 -> PREENCHER NA PLANILHA "ITEM 01"
A3: SISTEMAS INVERNADINHA - FELISBERTA - MEDIANEIRA
A4: ITEM | B4: SUB-ITEM | C4: DESCRIÇÃO: Verificar descrição complementar no T. R. | H4: UNID. | I4: MARCA / MODELO | J4: PREÇO UNITÁRIO | K4: (%)
A5: 6 | B5: 6.1 | C5: Bomba nova submersa, 4", 39 estagios, 5,5 Hp, monofasica. | H5: UNID. | K5: =J5/J19 -> #DIV/0!
B6: 6.2 | C6: Manutenção corretiva de motor acoplavel para bomba submersa 4" acima, base de troca. | H6: UNID. | K6: =J6/J19 -> #DIV/0!
B7: 6.3 | C7: Quadro de comando novo, completo, 5,5 Hp, monofásico, partida direta, montado em caixa metálica fosfotizada com pintura eletrostática em epoxi, com no mínimo, os componentes abaixo especificados: | H7: UNID. | K7: =J7/J19 -> #DIV/0!
B8: 6.4 | C8: Amperímetro compatível para reposição | H8: UNID. | K8: =J8/J19 -> #DIV/0!
B9: 6.5 | C9: Bobina magnética compatível para reposição | H9: UNID. | K9: =J9/J19 -> #DIV/0!
B10: 6.6 | C10: Capacitor eletrolítico compatível para reposição | H10: UNID. | K10: =J10/J19 -> #DIV/0!
B11: 6.7 | C11: Capacitor permanente compatível para reposição | H11: UNID. | K11: =J11/J19 -> #DIV/0!
B12: 6.8 | C12: Chave 3 posições compatível para reposição | H12: UNID. | K12: =J12/J19 -> #DIV/0!
B13: 6.9 | C13: Contatora compatível para reposição | H13: UNID. | K13: =J13/J19 -> #DIV/0!
B14: 6.10 | C14: Disjuntor compatível para reposição | H14: UNID. | K14: =J14/J19 -> #DIV/0!
B15: 6.11 | C15: Relé de sobrecarga compatível para reposição | H15: UNID. | K15: =J15/J19 -> #DIV/0!
B16: 6.12 | C16: Relé de tempo compatível para reposição | H16: UNID. | K16: =J16/J19 -> #DIV/0!
B17: 6.13 | C17: Chamado técnico para manutenção do sistema com verificação das condições de componentes externos do sistema, sem intervenção no poço, com deslocamento. | H17: UNID. | K17: =J17/J19 -> #DIV/0!
B18: 6.14 | C18: Complementação do Chamado técnico acima, referente a intervenção no poço, através de sistema de guincho para retirada de bomba submersa, sem deslocamento. | H18: UNID. | K18: =J18/J19 -> #DIV/0!
B19: VALOR TOTAL DO ITEM 06 | J19: =SUM(J5:J18) -> 0 | K19: 1
B20: Local, Data e Assinatura: | E20: ='ITEM 01'!E28 -> PREENCHER NA PLANILHA "ITEM 01"

Sheet ITEM 07
A1: FORNECEDOR: | D1: ='ITEM 01'!D1 -> PREENCHER NA PLANILHA "ITEM 01"
A2: ENDEREÇO: | D2: ='ITEM 01'!D2 -> PREENCHER NA PLANILHA "ITEM 01"
A3: SISTEMAS ENCRUZILHADA - RINCÃO DA VÁRZEA
A4: ITEM | B4: SUB-ITEM | C4: DESCRIÇÃO: Verificar descrição complementar no T. R. | H4: UNID. | I4: MARCA / MODELO | J4: PREÇO UNITÁRIO | K4: (%)
A5: 7 | B5: 7.1 | C5: Bomba nova submersa, 4", 50 estagios, 5 Hp, monofasica. | H5: UNID. | K5: =J5/J19 -> #DIV/0!
B6: 7.2 | C6: Manutenção corretiva de motor acoplavel para bomba submersa 4" acima, base de troca. | H6: UNID. | K6: =J6/J19 -> #DIV/0!
B7: 7.3 | C7: Quadro de comando novo, completo, 5 Hp, monofásico, partida direta, montado em caixa metálica fosfotizada com pintura eletrostática em epoxi, com no mínimo, os componentes abaixo especificados: | H7: UNID. | K7: =J7/J19 -> #DIV/0!
B8: 7.4 | C8: Amperímetro compatível para reposição | H8: UNID. | K8: =J8/J19 -> #DIV/0!
B9: 7.5 | C9: Bobina magnética compatível para reposição | H9: UNID. | K9: =J9/J19 -> #DIV/0!
B10: 7.6 | C10: Capacitor eletrolítico compatível para reposição | H10: UNID. | K10: =J10/J19 -> #DIV/0!
B11: 7.7 | C11: Capacitor permanente compatível para reposição | H11: UNID. | K11: =J11/J19 -> #DIV/0!
B12: 7.8 | C12: Chave 3 posições compatível para reposição | H12: UNID. | K12: =J12/J19 -> #DIV/0!
B13: 7.9 | C13: Contatora compatível para reposição | H13: UNID. | K13: =J13/J19 -> #DIV/0!
B14: 7.10 | C14: Disjuntor compatível para reposição | H14: UNID. | K14: =J14/J19 -> #DIV/0!
B15: 7.11 | C15: Relé de sobrecarga compatível para reposição | H15: UNID. | K15: =J15/J19 -> #DIV/0!
B16: 7.12 | C16: Relé de tempo compatível para reposição | H16: UNID. | K16: =J16/J19 -> #DIV/0!
B17: 7.13 | C17: Chamado técnico para manutenção do sistema com verificação das condições de componentes externos do sistema, sem intervenção no poço, com deslocamento. | H17: UNID. | K17: =J17/J19 -> #DIV/0!
B18: 7.14 | C18: Complementação do Chamado técnico acima, referente a intervenção no poço, através de sistema de guincho para retirada de bomba submersa, sem deslocamento. | H18: UNID. | K18: =J18/J19 -> #DIV/0!
B19: VALOR TOTAL DO ITEM 07 | J19: =SUM(J5:J18) -> 0 | K19: 1
B20: Local, Data e Assinatura: | E20: ='ITEM 01'!E28 -> PREENCHER NA PLANILHA "ITEM 01"

Sheet ITEM 08
A1: FORNECEDOR: | D1: ='ITEM 01'!D1 -> PREENCHER NA PLANILHA "ITEM 01"
A2: ENDEREÇO: | D2: ='ITEM 01'!D2 -> PREENCHER NA PLANILHA "ITEM 01"
A3: SISTEMAS LINHA FERRARI - DOIS IRMÃOS - GRINGUINHA
A4: ITEM | B4: SUB-ITEM | C4: DESCRIÇÃO: Verificar descrição complementar no T. R. | H4: UNID. | I4: MARCA / MODELO | J4: PREÇO UNITÁRIO | K4: (%)
A5: 8 | B5: 8.1 | C5: Bomba nova submersa, 4", 35 estagios, 5 Hp, monofasica. | H5: UNID. | K5: =J5/J19 -> #DIV/0!
B6: 8.2 | C6: Manutenção corretiva de motor acoplavel para bomba submersa 4" acima, base de troca. | H6: UNID. | K6: =J6/J19 -> #DIV/0!
B7: 8.3 | C7: Quadro de comando novo, completo, 5 Hp, monofásico, partida direta, montado em caixa metálica fosfotizada com pintura eletrostática em epoxi, com no mínimo, os componentes abaixo especificados: | H7: UNID. | K7: =J7/J19 -> #DIV/0!
B8: 8.4 | C8: Amperímetro compatível para reposição | H8: UNID. | K8: =J8/J19 -> #DIV/0!
B9: 8.5 | C9: Bobina magnética compatível para reposição | H9: UNID. | K9: =J9/J19 -> #DIV/0!
B10: 8.6 | C10: Capacitor eletrolítico compatível para reposição | H10: UNID. | K10: =J10/J19 -> #DIV/0!
B11: 8.7 | C11: Capacitor permanente compatível para reposição | H11: UNID. | K11: =J11/J19 -> #DIV/0!
B12: 8.8 | C12: Chave 3 posições compatível para reposição | H12: UNID. | K12: =J14/J19 -> #DIV/0!
B13: 8.9 | C13: Contatora compatível para reposição | H13: UNID. | K13: =J14/J19 -> #DIV/0!
B14: 8.10 | C14: Disjuntor compatível para reposição | H14: UNID. | K14: =J14/J19 -> #DIV/0!
B15: 8.11 | C15: Relé de sobrecarga compatível para reposição | H15: UNID. | K15: =J15/J19 -> #DIV/0!
B16: 8.12 | C16: Relé de tempo compatível para reposição | H16: UNID. | K16: =J16/J19 -> #DIV/0!
B17: 8.13 | C17: Chamado técnico para manutenção do sistema com verificação das condições de componentes externos do sistema, sem intervenção no poço, com deslocamento. | H17: UNID. | K17: =J17/J19 -> #DIV/0!
B18: 8.14 | C18: Complementação do Chamado técnico acima, referente a intervenção no poço, através de sistema de guincho para retirada de bomba submersa, sem deslocamento. | H18: UNID. | K18: =J18/J19 -> #DIV/0!
B19: VALOR TOTAL DO ITEM 08 | J19: =SUM(J5:J18) -> 0 | K19: 1
B20: Local, Data e Assinatura: | E20: ='ITEM 01'!E28 -> PREENCHER NA PLANILHA "ITEM 01"

Sheet ITEM 09
A1: FORNECEDOR: | D1: ='ITEM 01'!D1 -> PREENCHER NA PLANILHA "ITEM 01"
A2: ENDEREÇO: | D2: ='ITEM 01'!D2 -> PREENCHER NA PLANILHA "ITEM 01"
A3: SISTEMA DE ABASTECIMENTO DE ÁGUA PASSO DO JACUÍ
A4: ITEM | B4: SUB-ITEM | C4: DESCRIÇÃO: Verificar descrição complementar no T. R. | H4: UNID. | I4: MARCA / MODELO | J4: PREÇO UNITÁRIO | K4: (%)
A5: 9 | B5: 9.1 | C5: Bomba nova submersa, 4", 43 estagios, 4,5 Hp, monofasica. | H5: UNID. | K5: =J5/J19 -> #DIV/0!
B6: 9.2 | C6: Manutenção corretiva de motor acoplavel para bomba submersa 4" acima. | H6: UNID. | K6: =J6/J19 -> #DIV/0!
B7: 9.3 | C7: Quadro de comando novo, completo, 4,5 Hp, monofásico, partida direta, montado em caixa metálica fosfotizada com pintura eletrostática em epoxi, com no mínimo, os componentes abaixo especificados: | H7: UNID. | K7: =J7/J19 -> #DIV/0!
B8: 9.4 | C8: Amperímetro compatível para reposição | H8: UNID. | K8: =J8/J19 -> #DIV/0!
B9: 9.5 | C9: Bobina magnética compatível para reposição | H9: UNID. | K9: =J9/J19 -> #DIV/0!
B10: 9.6 | C10: Capacitor eletrolítico compatível para reposição | H10: UNID. | K10: =J10/J19 -> #DIV/0!
B11: 9.7 | C11: Capacitor permanente compatível para reposição | H11: UNID. | K11: =J11/J19 -> #DIV/0!
B12: 9.8 | C12: Chave 3 posições compatível para reposição | H12: UNID. | K12: =J12/J19 -> #DIV/0!
B13: 9.9 | C13: Contatora compatível para reposição | H13: UNID. | K13: =J13/J19 -> #DIV/0!
B14: 9.10 | C14: Disjuntor compatível para reposição | H14: UNID. | K14: =J14/J19 -> #DIV/0!
B15: 9.11 | C15: Relé de sobrecarga compatível para reposição | H15: UNID. | K15: =J15/J19 -> #DIV/0!
B16: 9.12 | C16: Relé de tempo compatível para reposição | H16: UNID. | K16: =J16/J19 -> #DIV/0!
B17: 9.13 | C17: Chamado técnico para manutenção do sistema com verificação das condições de componentes externos do sistema, sem intervenção no poço, com deslocamento. | H17: UNID. | K17: =J17/J19 -> #DIV/0!
B18: 9.14 | C18: Complementação do Chamado técnico acima, referente a intervenção no poço, através de sistema de guincho para retirada de bomba submersa, sem deslocamento. | H18: UNID. | K18: =J18/J19 -> #DIV/0!
B19: VALOR TOTAL DO ITEM 09 | J19: =SUM(J5:J18) -> 0 | K19: 1
B20: Local, Data e Assinatura: | E20: ='ITEM 01'!E28 -> PREENCHER NA PLANILHA "ITEM 01"

Sheet ITEM 10
A1: FORNECEDOR: | D1: ='ITEM 01'!D1 -> PREENCHER NA PLANILHA "ITEM 01"
A2: ENDEREÇO: | D2: ='ITEM 01'!D2 -> PREENCHER NA PLANILHA "ITEM 01"
A3: SISTEMAS TAIPA(TRÊS PASSINHOS) - RINCÃO DO APPEL
A4: ITEM | B4: SUB-ITEM | C4: DESCRIÇÃO: Verificar descrição complementar no T. R. | H4: UNID. | I4: MARCA / MODELO | J4: PREÇO UNITÁRIO | K4: (%)
A5: 10 | B5: 10.1 | C5: Bomba nova submersa, 4", 30 estagios, 4,5 Hp, monofasica. | H5: UNID. | K5: =J5/J19 -> #DIV/0!
B6: 10.2 | C6: Manutenção corretiva de motor acoplavel para bomba submersa 4" acima, base de troca. | H6: UNID. | K6: =J6/J19 -> #DIV/0!
B7: 10.3 | C7: Quadro de comando novo, completo, 4,5 Hp, monofásico, partida direta, montado em caixa metálica fosfotizada com pintura eletrostática em epoxi, com no mínimo, os componentes abaixo especificados: | H7: UNID. | K7: =J7/J19 -> #DIV/0!
B8: 10.4 | C8: Amperímetro compatível para reposição | H8: UNID. | K8: =J8/J19 -> #DIV/0!
B9: 10.5 | C9: Bobina magnética compatível para reposição | H9: UNID. | K9: =J9/J19 -> #DIV/0!
B10: 10.6 | C10: Capacitor eletrolítico compatível para reposição | H10: UNID. | K10: =J10/J19 -> #DIV/0!
B11: 10.7 | C11: Capacitor permanente compatível para reposição | H11: UNID. | K11: =J11/J19 -> #DIV/0!
B12: 10.8 | C12: Chave 3 posições compatível para reposição | H12: UNID. | K12: =J16/J19 -> #DIV/0!
B13: 10.9 | C13: Contatora compatível para reposição | H13: UNID. | K13: =J16/J19 -> #DIV/0!
B14: 10.10 | C14: Disjuntor compatível para reposição | H14: UNID. | K14: =J16/J19 -> #DIV/0!
B15: 10.11 | C15: Relé de sobrecarga compatível para reposição | H15: UNID. | K15: =J16/J19 -> #DIV/0!
B16: 10.12 | C16: Relé de tempo compatível para reposição | H16: UNID. | K16: =J16/J19 -> #DIV/0!
B17: 10.13 | C17: Chamado técnico para manutenção do sistema com verificação das condições de componentes externos do sistema, sem intervenção no poço, com deslocamento. | H17: UNID. | K17: =J17/J19 -> #DIV/0!
B18: 10.14 | C18: Complementação do Chamado técnico acima, referente a intervenção no poço, através de sistema de guincho para retirada de bomba submersa, sem deslocamento. | H18: UNID. | K18: =J18/J19 -> #DIV/0!
B19: VALOR TOTAL DO ITEM 10 | J19: =SUM(J5:J18) -> 0 | K19: 1
B20: Local, Data e Assinatura: | E20: ='ITEM 01'!E28 -> PREENCHER NA PLANILHA "ITEM 01"

Sheet ITEM 11
A1: FORNECEDOR: | D1: ='ITEM 01'!D1 -> PREENCHER NA PLANILHA "ITEM 01"
A2: ENDEREÇO: | D2: ='ITEM 01'!D2 -> PREENCHER NA PLANILHA "ITEM 01"
A3: SISTEMAS ASSENTAMENTO SOBRADO 01 AGROVILA - SOBRADO 02 INTERIOR
A4: ITEM | B4: SUB-ITEM | C4: DESCRIÇÃO: Verificar descrição complementar no T. R. | H4: UNID. | I4: MARCA / MODELO | J4: PREÇO UNITÁRIO | K4: (%)
A5: 11 | B5: 11.1 | C5: Bomba nova submersa, 4", 28 estagios, 3 Hp, monofasica. | H5: UNID. | K5: =J5/J19 -> #DIV/0!
B6: 11.2 | C6: Manutenção corretiva de motor acoplavel para bomba submersa 4" acima, base de troca. | H6: UNID. | K6: =J6/J19 -> #DIV/0!
B7: 11.3 | C7: Quadro de comando novo, completo, 3 Hp, monofásico, partida direta, montado em caixa metálica fosfotizada com pintura eletrostática em epoxi, com no mínimo, os componentes abaixo especificados: | H7: UNID. | K7: =J7/J19 -> #DIV/0!
B8: 11.4 | C8: Amperímetro compatível para reposição | H8: UNID. | K8: =J8/J19 -> #DIV/0!
B9: 11.5 | C9: Bobina magnética compatível para reposição | H9: UNID. | K9: =J9/J19 -> #DIV/0!
B10: 11.6 | C10: Capacitor eletrolítico compatível para reposição | H10: UNID. | K10: =J10/J19 -> #DIV/0!
B11: 11.7 | C11: Capacitor permanente compatível para reposição | H11: UNID. | K11: =J11/J19 -> #DIV/0!
B12: 11.8 | C12: Chave 3 posições compatível para reposição | H12: UNID. | K12: =J12/J19 -> #DIV/0!
B13: 11.9 | C13: Contatora compatível para reposição | H13: UNID. | K13: =J13/J19 -> #DIV/0!
B14: 11.10 | C14: Disjuntor compatível para reposição | H14: UNID. | K14: =J14/J19 -> #DIV/0!
B15: 11.11 | C15: Relé de sobrecarga compatível para reposição | H15: UNID. | K15: =J15/J19 -> #DIV/0!
B16: 11.12 | C16: Relé de tempo compatível para reposição | H16: UNID. | K16: =J16/J19 -> #DIV/0!
B17: 11.13 | C17: Chamado técnico para manutenção do sistema com verificação das condições de componentes externos do sistema, sem intervenção no poço, com deslocamento. | H17: UNID. | K17: =J17/J19 -> #DIV/0!
B18: 11.14 | C18: Complementação do Chamado técnico acima, referente a intervenção no poço, através de sistema de guincho para retirada de bomba submersa, sem deslocamento. | H18: UNID. | K18: =J18/J19 -> #DIV/0!
B19: VALOR TOTAL DO ITEM 11 | J19: =SUM(J5:J18) -> 0 | K19: 1
B20: Local, Data e Assinatura: | E20: ='ITEM 01'!E28 -> PREENCHER NA PLANILHA "ITEM 01"

Sheet ITEM 12
A1: FORNECEDOR: | D1: ='ITEM 01'!D1 -> PREENCHER NA PLANILHA "ITEM 01"
A2: ENDEREÇO: | D2: ='ITEM 01'!D2 -> PREENCHER NA PLANILHA "ITEM 01"
A3: SISTEMA DE ABASTECIMENTO DE ÁGUA INTERMEDIÁRIOS DOS SISTEMAS: R. DOS SALLES - CAÇADOR E COXILHÃO DOS TAQUARIANOS E SISTEMAS: CERRO AZUL - LINHA POLONIATO
A4: ITEM | B4: SUB-ITEM | C4: DESCRIÇÃO: Verificar descrição complementar no T. R. | H4: UNID. | I4: MARCA / MODELO | J4: PREÇO UNITÁRIO | K4: (%)
A5: 12 | B5: 12.1 | C5: Bomba nova centrifuga horizontal, 27 estágios, 2 Hp, monofásica. | H5: UNID. | K5: =J5/J18 -> #DIV/0!
B6: 12.2 | C6: Manutenção corretiva de motor acoplavel para bomba centrífuga acima, base de troca. | H6: UNID. | K6: =J6/J18 -> #DIV/0!
B7: 12.3 | C7: Quadro de comando novo, completo, 2 Hp, monofásico, 220V, partida direta, montado em caixa metálica fosfotizada com pintura eletrostática em epoxi, com no mínimo, os componentes abaixo especificados: | H7: UNID. | K7: =J7/J18 -> #DIV/0!
B8: 12.4 | C8: Amperímetro compatível para reposição | H8: UNID. | K8: =J8/J18 -> #DIV/0!
B9: 12.5 | C9: Bobina magnética compatível para reposição | H9: UNID. | K9: =J9/J18 -> #DIV/0!
B10: 12.6 | C10: Capacitor eletrolítico compatível para reposição | H10: UNID. | K10: =J10/J18 -> #DIV/0!
B11: 12.7 | C11: Capacitor permanente compatível para reposição | H11: UNID. | K11: =J11/J18 -> #DIV/0!
B12: 12.8 | C12: Chave 3 posições compatível para reposição | H12: UNID. | K12: =J12/J18 -> #DIV/0!
B13: 12.9 | C13: Contatora compatível para reposição | H13: UNID. | K13: =J13/J18 -> #DIV/0!
B14: 12.10 | C14: Disjuntor compatível para reposição | H14: UNID. | K14: =J14/J18 -> #DIV/0!
B15: 12.11 | C15: Relé de sobrecarga compatível para reposição | H15: UNID. | K15: =J15/J18 -> #DIV/0!
B16: 12.12 | C16: Relé de tempo compatível para reposição | H16: UNID. | K16: =J16/J18 -> #DIV/0!
B17: 12.13 | C17: Chamado técnico para manutenção do sistema com verificação das condições de componentes externos do sistema, sem intervenção no poço, com deslocamento. | H17: UNID. | K17: =J17/J18 -> #DIV/0!
B18: VALOR TOTAL DO ITEM 12 | J18: =SUM(J5:J17) -> 0 | K18: 1
B19: Local, Data e Assinatura: | E19: ='ITEM 01'!E28 -> PREENCHER NA PLANILHA "ITEM 01"

Sheet PREÇOS TOTAIS SISTEMAS
A1: FORNECEDOR: | D1: ='ITEM 01'!D1 -> PREENCHER NA PLANILHA "ITEM 01"
A2: ENDEREÇO: | D2: ='ITEM 01'!D2 -> PREENCHER NA PLANILHA "ITEM 01"
A4: PLANILHA COM TOTAL GERAL
A6: ITEM | B6: QUANT. (MIN/MAX) | C6: UNID | D6: SISTEMA | E6: VALOR TOTAL UNITÁRIO POR SISTEMA
A7: 1 | B7: 02 a 06 | C7: UNID | D7: SISTEMA: MOINHO RUBIN - 02 POÇOS | E7: ='ITEM 01'!J27 -> 0
A8: 2 | B8: 01 a 03 | C8: UNID | D8: SISTEMA: BAIRRO LIMEIRA | E8: ='ITEM 02'!J17 -> 0
A9: 3 | B9: 01 a 02 | C9: UNID | D9: SISTEMA: BAIRRO SÃO JOSÉ DO PINHAL | E9: ='ITEM 03'!J17 -> 0
A10: 4 | B10: 01 a 04 | C10: UNID | D10: SISTEMA: LINHA BUSANELLO | E10: ='ITEM 04'!J19 -> 0
A11: 5 | B11: 04 a 08 | C11: UNID | D11: SISTEMAS: RINCÃO DOS SALLES - LINHA SOMAVILLA - CAÇADOR - COXILHÃO DOS TAQUARIANOS | E11: ='ITEM 05'!J19 -> 0
A12: 6 | B12: 04 a 06 | C12: UNID | D12: SISTEMAS: INVERNADINHA - FELISBERTA - MEDIANEIRA | E12: ='ITEM 06'!J19 -> 0
A13: 7 | B13: 02 a 06 | C13: UNID | D13: SISTEMAS: ENCRUZILHADA - RINCÃO DA VÁRZEA | E13: ='ITEM 07'!J19 -> 0
A14: 8 | B14: 02 a 06 | C14: UNID | D14: SISTEMAS: LINHA FERRARI - DOIS IRMÃOS - GRINGUINHA | E14: ='ITEM 08'!J19 -> 0
A15: 9 | B15: 01 a 03 | C15: UNID | D15: SISTEMA: PASSO DO JACUÍ | E15: ='ITEM 09'!J19 -> 0
A16: 10 | B16: 01 a 03 | C16: UNID | D16: SISTEMAS: TAIPA(TRÊS PASSINHOS) - RINCÃO DO APPEL | E16: ='ITEM 10'!J19 -> 0
A17: 11 | B17: 01 a 03 | C17: UNID | D17: SISTEMAS: ASSENTAMENTO SOBRADO 01 AGROVILA - ASSENTAMENTO SOBRADO 02 INTERIOR | E17: ='ITEM 11'!J19 -> 0
A18: 12 | B18: 06 a 12 | C18: UNID | D18: INTERMEDIÁRIOS DOS SISTEMAS: R. DOS SALLES - CAÇADOR E COXILHÃO DOS TAQUARIANOS E SISTEMAS: CERRO AZUL - LINHA POLONIATO | E18: ='ITEM 12'!J18 -> 0
A19: TOTAL | E19: =SUM(E7:E18) -> 0
A20: Local, data e assinatura, | D20: ='ITEM 01'!E28 -> PREENCHER NA PLANILHA "ITEM 01"
